BEGIN:VCALENDAR
VERSION:2.0
PRODID:-//bonasoft.pl//NONSGML Warsztaty rękodzielnicze – haft krzyżykowy//EN
CALSCALE:GREGORIAN
METHOD:PUBLISH
BEGIN:VEVENT
UID:20260424T151139-1871771966uid
DISTAMP:20260424T151139
DTSTART:20260511T140000Z
DTEND:20260511T160000Z
LOCATION:Pedagogiczna Biblioteka Wojewódzka im. KEN w Warszawie. Filia w Nowym Dworze Mazowieckim
SUMMARY:Warsztaty rękodzielnicze – haft krzyżykowy
DESCRIPTION:
END:VEVENT
END:VCALENDAR
