BEGIN:VCALENDAR
VERSION:2.0
PRODID:-//bonasoft.pl//NONSGML Spotkanie autorskie z Mariolą Pryzwan//EN
CALSCALE:GREGORIAN
METHOD:PUBLISH
BEGIN:VEVENT
UID:20260424T151059-1311619967uid
DISTAMP:20260424T151059
DTSTART:20260514T083000Z
DTEND:20260514T100000Z
LOCATION:Pedagogiczna Biblioteka Wojewódzka im. KEN w Warszawie. Filia w Nowym Dworze Mazowieckim
SUMMARY:Spotkanie autorskie z Mariolą Pryzwan
DESCRIPTION:
END:VEVENT
END:VCALENDAR
