BEGIN:VCALENDAR
VERSION:2.0
PRODID:-//bonasoft.pl//NONSGML Spotkanie autorskie z Wojciechem Widłakiem//EN
CALSCALE:GREGORIAN
METHOD:PUBLISH
BEGIN:VEVENT
UID:20260424T154006-612813633uid
DISTAMP:20260424T154006
DTSTART:20260508T090000Z
DTEND:20260508T103000Z
LOCATION:Pedagogiczna Biblioteka Wojewódzka im. KEN w Warszawie. Filia w Nowym Dworze Mazowieckim
SUMMARY:Spotkanie autorskie z Wojciechem Widłakiem
DESCRIPTION:
END:VEVENT
END:VCALENDAR
