BEGIN:VCALENDAR
VERSION:2.0
PRODID:-//bonasoft.pl//NONSGML XXXIII Ogólnopolski Tydzień bibliotek 2026//EN
CALSCALE:GREGORIAN
METHOD:PUBLISH
BEGIN:VEVENT
UID:20260424T151139-796287265uid
DISTAMP:20260424T151139
DTSTART:20260508T070000Z
DTEND:20260515T160000Z
LOCATION:Pedagogiczna Biblioteka Wojewódzka im. KEN w Warszawie. Filia w Nowym Dworze Mazowieckim
SUMMARY:XXXIII Ogólnopolski Tydzień bibliotek 2026
DESCRIPTION:
END:VEVENT
END:VCALENDAR
