BEGIN:VCALENDAR
VERSION:2.0
PRODID:-//bonasoft.pl//NONSGML Zapraszamy do udziału w turnieju literackim ,,#Ja” organizowanym przez Pedagogiczną Bibliotekę Wojewódzką im. KEN w Warszawie Filia w Nowym Dworze Mazowieckim.//EN
CALSCALE:GREGORIAN
METHOD:PUBLISH
BEGIN:VEVENT
UID:20260421T085416-1014423275uid
DISTAMP:20260421T085416
DTSTART:20260326T090000Z
DTEND:20260326T120000Z
LOCATION:Zespół Szkolno-Przedszkolny nr 3 w Nowym Dworze Mazowieckim, ul. Szkolna 3.
SUMMARY:Zapraszamy do udziału w turnieju literackim ,,#Ja” organizowanym przez Pedagogiczną Bibliotekę Wojewódzką im. KEN w Warszawie Filia w Nowym Dworze Mazowieckim.
DESCRIPTION:
END:VEVENT
END:VCALENDAR
